BEGIN:VCALENDAR
VERSION:2.0
PRODID:-//eventon.com NONSGML v1.0//EN
CALSCALE:GREGORIAN
METHOD:PUBLISH
BEGIN:VEVENT
UID:69e8bd3e3109b
DTSTAMP:20260422T122118Z
DTSTART:20250820T210000Z
DTEND:20250821T000000Z
LOCATION:
SUMMARY:Get Your Kick On
DESCRIPTION:Please join us Wednesday\,  August 20 for the 8th Annual Get Yo
 ur Kick On tournament at East Park! This exciting event will be hosted on E
 ast Park’s picturesque executive Golf course. Foot Golf is a combination 
 of the popular sports of soccer and golf. It is a precision sport where[..]
 \nhttps://childhealth.ca/events/get-your-kick-on/
URL:https://childhealth.ca/events/get-your-kick-on/
END:VEVENT
END:VCALENDAR