BEGIN:VCALENDAR
VERSION:2.0
PRODID:-//eventon.com NONSGML v1.0//EN
CALSCALE:GREGORIAN
METHOD:PUBLISH
BEGIN:VEVENT
UID:69ea40c6b7b7a
DTSTAMP:20260423T155446Z
DTSTART:20260209
DTEND:20260210
LOCATION:
SUMMARY:Pizza Pizza's Slices for Smiles
DESCRIPTION:Pizza Pizza’s Slices for Smiles campaign is back in support o
 f Children’s Health Foundation!  From February 9 to February 14\,  you c
 an visit your local Pizza Pizza and enjoy a heart pizza and help make a dif
 ference for sick and injured children in our community. For every Heart Piz
 za sold\, [..]\nhttps://childhealth.ca/events/pizza-pizzas-slices-for-smile
 s/
URL:https://childhealth.ca/events/pizza-pizzas-slices-for-smiles/
END:VEVENT
END:VCALENDAR