BEGIN:VCALENDAR
VERSION:2.0
PRODID:-//eventon.com NONSGML v1.0//EN
CALSCALE:GREGORIAN
METHOD:PUBLISH
BEGIN:VEVENT
UID:69e78bb8b624f
DTSTAMP:20260421T143744Z
DTSTART:20260416
DTEND:20260417
LOCATION:
SUMMARY:DQ Blizzard Treat vouchers now available
DESCRIPTION:DQ Blizzard Treat vouchers are now available for pre‑order an
 d can be redeemed for one small Blizzard Treat at participating Dairy Queen
  locations until August 31. Order single vouchers or packs of five (choose 
 mail delivery\,  office pickup\,  or contact us for bulk orders). Pre‑ord
 er today - shipping starts the[..]\nhttps://childhealth.ca/events/dq-blizza
 rd-treat-vouchers-now-available/
URL:https://childhealth.ca/events/dq-blizzard-treat-vouchers-now-available/
END:VEVENT
END:VCALENDAR